BEGIN:VCALENDAR
VERSION:2.0
PRODID:-//VOKALENSEMBLET TABULA RASA - ECPv6.10.2//NONSGML v1.0//EN
CALSCALE:GREGORIAN
METHOD:PUBLISH
X-WR-CALNAME:VOKALENSEMBLET TABULA RASA
X-ORIGINAL-URL:https://tabularasa.no
X-WR-CALDESC:Arrangement for VOKALENSEMBLET TABULA RASA
REFRESH-INTERVAL;VALUE=DURATION:PT1H
X-Robots-Tag:noindex
X-PUBLISHED-TTL:PT1H
BEGIN:VTIMEZONE
TZID:Europe/Paris
BEGIN:DAYLIGHT
TZOFFSETFROM:+0100
TZOFFSETTO:+0200
TZNAME:CEST
DTSTART:20210328T010000
END:DAYLIGHT
BEGIN:STANDARD
TZOFFSETFROM:+0200
TZOFFSETTO:+0100
TZNAME:CET
DTSTART:20211031T010000
END:STANDARD
BEGIN:DAYLIGHT
TZOFFSETFROM:+0100
TZOFFSETTO:+0200
TZNAME:CEST
DTSTART:20220327T010000
END:DAYLIGHT
BEGIN:STANDARD
TZOFFSETFROM:+0200
TZOFFSETTO:+0100
TZNAME:CET
DTSTART:20221030T010000
END:STANDARD
BEGIN:DAYLIGHT
TZOFFSETFROM:+0100
TZOFFSETTO:+0200
TZNAME:CEST
DTSTART:20230326T010000
END:DAYLIGHT
BEGIN:STANDARD
TZOFFSETFROM:+0200
TZOFFSETTO:+0100
TZNAME:CET
DTSTART:20231029T010000
END:STANDARD
BEGIN:DAYLIGHT
TZOFFSETFROM:+0100
TZOFFSETTO:+0200
TZNAME:CEST
DTSTART:20240331T010000
END:DAYLIGHT
BEGIN:STANDARD
TZOFFSETFROM:+0200
TZOFFSETTO:+0100
TZNAME:CET
DTSTART:20241027T010000
END:STANDARD
BEGIN:DAYLIGHT
TZOFFSETFROM:+0100
TZOFFSETTO:+0200
TZNAME:CEST
DTSTART:20250330T010000
END:DAYLIGHT
BEGIN:STANDARD
TZOFFSETFROM:+0200
TZOFFSETTO:+0100
TZNAME:CET
DTSTART:20251026T010000
END:STANDARD
END:VTIMEZONE
BEGIN:VEVENT
DTSTART;TZID=Europe/Paris:20250905T190000
DTEND;TZID=Europe/Paris:20250905T203000
DTSTAMP:20260420T121945
CREATED:20250821T172025Z
LAST-MODIFIED:20250821T172025Z
UID:1526-1757098800-1757104200@tabularasa.no
SUMMARY:DELPHIS
DESCRIPTION:
URL:https://tabularasa.no/event/delphis/
LOCATION:Nykirken
END:VEVENT
BEGIN:VEVENT
DTSTART;TZID=Europe/Paris:20250831T140000
DTEND;TZID=Europe/Paris:20250831T150000
DTSTAMP:20260420T121945
CREATED:20250821T171636Z
LAST-MODIFIED:20250821T171636Z
UID:1522-1756648800-1756652400@tabularasa.no
SUMMARY:TID
DESCRIPTION:
URL:https://tabularasa.no/event/tid-8/
LOCATION:Storetveit kirke
END:VEVENT
BEGIN:VEVENT
DTSTART;TZID=Europe/Paris:20250830T150000
DTEND;TZID=Europe/Paris:20250830T160000
DTSTAMP:20260420T121945
CREATED:20250821T171505Z
LAST-MODIFIED:20250821T171505Z
UID:1518-1756566000-1756569600@tabularasa.no
SUMMARY:TID
DESCRIPTION:
URL:https://tabularasa.no/event/tid-7/
LOCATION:Vår Frelsers kirke
END:VEVENT
BEGIN:VEVENT
DTSTART;TZID=Europe/Paris:20250829T180000
DTEND;TZID=Europe/Paris:20250829T190000
DTSTAMP:20260420T121945
CREATED:20250821T171332Z
LAST-MODIFIED:20250821T171842Z
UID:1515-1756490400-1756494000@tabularasa.no
SUMMARY:TID
DESCRIPTION:
URL:https://tabularasa.no/event/tid-6/
LOCATION:Avaldsnes kirke
END:VEVENT
BEGIN:VEVENT
DTSTART;TZID=Europe/Paris:20250828T190000
DTEND;TZID=Europe/Paris:20250828T200000
DTSTAMP:20260420T121945
CREATED:20250821T170756Z
LAST-MODIFIED:20250821T171727Z
UID:1510-1756407600-1756411200@tabularasa.no
SUMMARY:TID
DESCRIPTION:
URL:https://tabularasa.no/event/tid-5/
LOCATION:Sola ruinkirke
END:VEVENT
BEGIN:VEVENT
DTSTART;TZID=Europe/Paris:20241130T190000
DTEND;TZID=Europe/Paris:20241208T130000
DTSTAMP:20260420T121945
CREATED:20241110T214920Z
LAST-MODIFIED:20241110T215124Z
UID:1401-1732993200-1733662800@tabularasa.no
SUMMARY:SNØROSER
DESCRIPTION:https://www.letsreg.com/no/search?#/search?searchText=tabula%20rasa
URL:https://tabularasa.no/event/snoroser-5/
ATTACH;FMTTYPE=image/png:https://tabularasa.no/wp-content/uploads/2024/11/Skjermbilde-2024-11-10-kl.-22.30.46.png
END:VEVENT
BEGIN:VEVENT
DTSTART;TZID=Europe/Paris:20240922T190000
DTEND;TZID=Europe/Paris:20240922T200000
DTSTAMP:20260420T121945
CREATED:20240618T114852Z
LAST-MODIFIED:20240618T115436Z
UID:1373-1727031600-1727035200@tabularasa.no
SUMMARY:TID
DESCRIPTION:
URL:https://tabularasa.no/event/tid-4/
LOCATION:Kunsthuset Kabuso
ATTACH;FMTTYPE=image/png:https://tabularasa.no/wp-content/uploads/2024/06/TID-plakat-digitalt-1.png
END:VEVENT
BEGIN:VEVENT
DTSTART;TZID=Europe/Paris:20240922T150000
DTEND;TZID=Europe/Paris:20240922T160000
DTSTAMP:20260420T121945
CREATED:20240618T114711Z
LAST-MODIFIED:20240618T115409Z
UID:1371-1727017200-1727020800@tabularasa.no
SUMMARY:TID URFREMFØRING
DESCRIPTION:
URL:https://tabularasa.no/event/tid-urfremforing/
LOCATION:Bergen domkirke
ATTACH;FMTTYPE=image/png:https://tabularasa.no/wp-content/uploads/2024/06/TID-plakat-digitalt-1.png
END:VEVENT
BEGIN:VEVENT
DTSTART;TZID=Europe/Paris:20240921T190000
DTEND;TZID=Europe/Paris:20240921T200000
DTSTAMP:20260420T121945
CREATED:20240618T114437Z
LAST-MODIFIED:20240618T115334Z
UID:1368-1726945200-1726948800@tabularasa.no
SUMMARY:Opptakt: TID
DESCRIPTION:
URL:https://tabularasa.no/event/tid-3/
LOCATION:Dale kyrkje
ATTACH;FMTTYPE=image/png:https://tabularasa.no/wp-content/uploads/2024/06/TID-plakat-digitalt-1.png
END:VEVENT
BEGIN:VEVENT
DTSTART;TZID=Europe/Paris:20240919T190000
DTEND;TZID=Europe/Paris:20240919T200000
DTSTAMP:20260420T121945
CREATED:20240618T114334Z
LAST-MODIFIED:20240618T115257Z
UID:1365-1726772400-1726776000@tabularasa.no
SUMMARY:Opptakt: TID
DESCRIPTION:
URL:https://tabularasa.no/event/tid-2/
LOCATION:Nore Neset kyrkje
ATTACH;FMTTYPE=image/png:https://tabularasa.no/wp-content/uploads/2024/06/TID-plakat-digitalt-1.png
END:VEVENT
BEGIN:VEVENT
DTSTART;TZID=Europe/Paris:20240609T160000
DTEND;TZID=Europe/Paris:20240609T173000
DTSTAMP:20260420T121945
CREATED:20240501T223722Z
LAST-MODIFIED:20240501T223722Z
UID:1334-1717948800-1717954200@tabularasa.no
SUMMARY:FLYT
DESCRIPTION:FLYT – konsert med Stavanger Vocalensemble
URL:https://tabularasa.no/event/flyt/
END:VEVENT
BEGIN:VEVENT
DTSTART;TZID=Europe/Paris:20240310T140000
DTEND;TZID=Europe/Paris:20240310T144500
DTSTAMP:20260420T121945
CREATED:20240206T183926Z
LAST-MODIFIED:20240206T184212Z
UID:1329-1710079200-1710081900@tabularasa.no
SUMMARY:Stankelbeinmusikk
DESCRIPTION:
URL:https://tabularasa.no/event/stankelbeinmusikk-7/
LOCATION:Meieriet Frekhaug
END:VEVENT
BEGIN:VEVENT
DTSTART;TZID=Europe/Paris:20240310T120000
DTEND;TZID=Europe/Paris:20240310T124500
DTSTAMP:20260420T121945
CREATED:20240206T183718Z
LAST-MODIFIED:20240206T184154Z
UID:1327-1710072000-1710074700@tabularasa.no
SUMMARY:Stankelbeinmusikk
DESCRIPTION:
URL:https://tabularasa.no/event/stankelbeinmusikk-6/
LOCATION:Meieriet Frekhaug
END:VEVENT
BEGIN:VEVENT
DTSTART;TZID=Europe/Paris:20240309T143000
DTEND;TZID=Europe/Paris:20240309T144500
DTSTAMP:20260420T121945
CREATED:20240206T183550Z
LAST-MODIFIED:20240206T184030Z
UID:1324-1709994600-1709995500@tabularasa.no
SUMMARY:Stankelbeinmusikk
DESCRIPTION:
URL:https://tabularasa.no/event/stankelbeinmusikk-5/
LOCATION:Bergen hovedbibliotek
END:VEVENT
BEGIN:VEVENT
DTSTART;TZID=Europe/Paris:20240308T190000
DTEND;TZID=Europe/Paris:20240308T194500
DTSTAMP:20260420T121945
CREATED:20240206T183421Z
LAST-MODIFIED:20240206T183421Z
UID:1322-1709924400-1709927100@tabularasa.no
SUMMARY:Stankelbeinmusikk
DESCRIPTION:
URL:https://tabularasa.no/event/stankelbeinmusikk-4/
LOCATION:Kongshaug musikkgymnas
END:VEVENT
BEGIN:VEVENT
DTSTART;TZID=Europe/Paris:20240308T180000
DTEND;TZID=Europe/Paris:20240308T184500
DTSTAMP:20260420T121945
CREATED:20240206T183234Z
LAST-MODIFIED:20240206T183234Z
UID:1319-1709920800-1709923500@tabularasa.no
SUMMARY:Stankelbeinmusikk
DESCRIPTION:
URL:https://tabularasa.no/event/stankelbeinmusikk-3/
LOCATION:Kongshaug musikkgymnas
END:VEVENT
BEGIN:VEVENT
DTSTART;TZID=Europe/Paris:20231029T140000
DTEND;TZID=Europe/Paris:20231029T143000
DTSTAMP:20260420T121945
CREATED:20231019T055613Z
LAST-MODIFIED:20231019T055613Z
UID:1293-1698588000-1698589800@tabularasa.no
SUMMARY:Stankelbeinmusikk
DESCRIPTION:https://facebook.com/events/s/stankelbeinmusikk/1381574079099772/
URL:https://tabularasa.no/event/stankelbeinmusikk-2/
LOCATION:Meieriet Frekhaug
END:VEVENT
BEGIN:VEVENT
DTSTART;TZID=Europe/Paris:20231028T123000
DTEND;TZID=Europe/Paris:20231028T130000
DTSTAMP:20260420T121945
CREATED:20230825T120222Z
LAST-MODIFIED:20231019T055421Z
UID:1278-1698496200-1698498000@tabularasa.no
SUMMARY:Stankelbeinmusikk
DESCRIPTION:Mer info her \n  \n 
URL:https://tabularasa.no/event/stankelbeinmusikk/
LOCATION:Åsane kulturhus
END:VEVENT
BEGIN:VEVENT
DTSTART;VALUE=DATE:20230608
DTEND;VALUE=DATE:20230612
DTSTAMP:20260420T121945
CREATED:20230330T204838Z
LAST-MODIFIED:20230515T143614Z
UID:1223-1686182400-1686527999@tabularasa.no
SUMMARY:Stavkyrkjesong
DESCRIPTION:https://www.facebook.com/events/138299789238069
URL:https://tabularasa.no/event/stavkyrkjesong/
ATTACH;FMTTYPE=image/jpeg:https://tabularasa.no/wp-content/uploads/2023/03/AB5AA713-EEE5-4FAA-A7CA-73DED30AB7D4.jpeg
END:VEVENT
BEGIN:VEVENT
DTSTART;TZID=Europe/Paris:20230225T200000
DTEND;TZID=Europe/Paris:20230225T210000
DTSTAMP:20260420T121945
CREATED:20230221T081912Z
LAST-MODIFIED:20230221T081912Z
UID:1162-1677355200-1677358800@tabularasa.no
SUMMARY:Versificator
DESCRIPTION:https://facebook.com/events/s/versificator/9124867420887053/
URL:https://tabularasa.no/event/versificator/
LOCATION:Bergen kjøtt
END:VEVENT
BEGIN:VEVENT
DTSTART;TZID=Europe/Paris:20221127T160000
DTEND;TZID=Europe/Paris:20221127T170000
DTSTAMP:20260420T121945
CREATED:20221101T142230Z
LAST-MODIFIED:20221102T141412Z
UID:1108-1669564800-1669568400@tabularasa.no
SUMMARY:SNØROSER
DESCRIPTION:Les mer om turneen her \n  \n 
URL:https://tabularasa.no/event/snoroser-4/
LOCATION:Birkeland kirke
ATTACH;FMTTYPE=image/jpeg:https://tabularasa.no/wp-content/uploads/2022/10/1-3-scaled.jpeg
END:VEVENT
BEGIN:VEVENT
DTSTART;TZID=Europe/Paris:20221126T200000
DTEND;TZID=Europe/Paris:20221126T210000
DTSTAMP:20260420T121945
CREATED:20221101T141723Z
LAST-MODIFIED:20221102T141325Z
UID:1105-1669492800-1669496400@tabularasa.no
SUMMARY:SNØROSER
DESCRIPTION:Les mer om turneen her
URL:https://tabularasa.no/event/snoroser-3/
LOCATION:Erdal kyrkje
ATTACH;FMTTYPE=image/jpeg:https://tabularasa.no/wp-content/uploads/2022/10/1-3-scaled.jpeg
END:VEVENT
BEGIN:VEVENT
DTSTART;TZID=Europe/Paris:20221126T160000
DTEND;TZID=Europe/Paris:20221126T170000
DTSTAMP:20260420T121945
CREATED:20221101T141556Z
LAST-MODIFIED:20221102T141232Z
UID:1102-1669478400-1669482000@tabularasa.no
SUMMARY:SNØROSER
DESCRIPTION:Les mer om turneen her
URL:https://tabularasa.no/event/snoroser-2/
LOCATION:Austevoll kyrkje
ATTACH;FMTTYPE=image/jpeg:https://tabularasa.no/wp-content/uploads/2022/10/1-3-scaled.jpeg
END:VEVENT
BEGIN:VEVENT
DTSTART;TZID=Europe/Paris:20221124T193000
DTEND;TZID=Europe/Paris:20221124T203000
DTSTAMP:20260420T121945
CREATED:20221101T141218Z
LAST-MODIFIED:20221102T141133Z
UID:1095-1669318200-1669321800@tabularasa.no
SUMMARY:SNØROSER
DESCRIPTION:  \n \nLes mer om turneen her \n 
URL:https://tabularasa.no/event/snoroser/
LOCATION:Fitjar kyrkje
ATTACH;FMTTYPE=image/jpeg:https://tabularasa.no/wp-content/uploads/2022/10/1-3-scaled.jpeg
END:VEVENT
BEGIN:VEVENT
DTSTART;TZID=Europe/Paris:20220507T153000
DTEND;TZID=Europe/Paris:20220507T163000
DTSTAMP:20260420T121945
CREATED:20220430T125615Z
LAST-MODIFIED:20220430T125646Z
UID:1023-1651937400-1651941000@tabularasa.no
SUMMARY:Borealis Ung Komponist til Kabuso
DESCRIPTION:Foto: Johanne Karlsrud / Borealis\nhttps://fb.me/e/1ZH8RDAUM
URL:https://tabularasa.no/event/borealis-ung-komponist-til-kabuso/
LOCATION:Kunsthuset Kabuso
END:VEVENT
BEGIN:VEVENT
DTSTART;VALUE=DATE:20220429
DTEND;VALUE=DATE:20220516
DTSTAMP:20260420T121945
CREATED:20220217T141828Z
LAST-MODIFIED:20220427T202521Z
UID:974-1651190400-1652659199@tabularasa.no
SUMMARY:Vestlandsturné med BEDEHUS-LAB
DESCRIPTION:29. april: Tunes bedehus\, Garnes\n1. mai: Algrøy bedehus\, Sotra\n5. mai: Leirvik bedehus\, Stord\n6. mai: Hauge bedehus\, Karmøy\n11. mai: Heimly bedehus\, Åsane\n12. mai: Jon Fosses hus\, Strandebarm\n14. mai: Bdhuset\, Breim\n15. mai: Kaupanger bedehus\, Kaupanger \nKjøp billetter: https://www.deltager.no/participant/search.aspx?s=Bedehus \nFoto: Nayara Leite / Scenografi Silje Sandodden Kise
URL:https://tabularasa.no/event/bedehus-lab/
ATTACH;FMTTYPE=image/jpeg:https://tabularasa.no/wp-content/uploads/2021/09/Bedehus_Concert_NayaraLeite-06-scaled.jpg
END:VEVENT
BEGIN:VEVENT
DTSTART;TZID=Europe/Paris:20220317T210000
DTEND;TZID=Europe/Paris:20220317T220000
DTSTAMP:20260420T121945
CREATED:20210830T100346Z
LAST-MODIFIED:20220217T142216Z
UID:904-1647550800-1647554400@tabularasa.no
SUMMARY:Borealis Ung Komponist
DESCRIPTION:
URL:https://tabularasa.no/event/borealis-ung-komponist/
LOCATION:Bergen domkirke
ATTACH;FMTTYPE=image/jpeg:https://tabularasa.no/wp-content/uploads/2021/05/Borealis_2021_BUK_Tabula-Rasa-copy.jpg
END:VEVENT
BEGIN:VEVENT
DTSTART;VALUE=DATE:20220124
DTEND;VALUE=DATE:20220127
DTSTAMP:20260420T121945
CREATED:20210830T100157Z
LAST-MODIFIED:20210830T100157Z
UID:901-1642982400-1643241599@tabularasa.no
SUMMARY:Borealis Ung Komponist workshop
DESCRIPTION:
URL:https://tabularasa.no/event/borealis-ung-komponist-workshop-4/
END:VEVENT
BEGIN:VEVENT
DTSTART;VALUE=DATE:20211130
DTEND;VALUE=DATE:20211202
DTSTAMP:20260420T121945
CREATED:20210830T100054Z
LAST-MODIFIED:20210830T100054Z
UID:899-1638230400-1638403199@tabularasa.no
SUMMARY:Borealis Ung Komponist workshop
DESCRIPTION:
URL:https://tabularasa.no/event/borealis-ung-komponist-workshop-3/
END:VEVENT
BEGIN:VEVENT
DTSTART;TZID=Europe/Paris:20211124T190000
DTEND;TZID=Europe/Paris:20211124T200000
DTSTAMP:20260420T121945
CREATED:20211019T230802Z
LAST-MODIFIED:20211109T224515Z
UID:935-1637780400-1637784000@tabularasa.no
SUMMARY:TID
DESCRIPTION:Tabula Rasa \nJostein Stalheim\, akkordeon \nLinda Øgaard\, bildekunst \n 
URL:https://tabularasa.no/event/tid/
LOCATION:Kunstgarasjen\, Møllendalsveien 15\, Bergen\, 5009\, Norge
END:VEVENT
END:VCALENDAR